BEGIN:VCALENDAR
VERSION:2.0
PRODID:-//Dombóvári Magyar-Izraeli Baráti Társaság - ECPv5.14.1//NONSGML v1.0//EN
CALSCALE:GREGORIAN
METHOD:PUBLISH
X-WR-CALNAME:Dombóvári Magyar-Izraeli Baráti Társaság
X-ORIGINAL-URL:https://dizma.hu
X-WR-CALDESC:Events for Dombóvári Magyar-Izraeli Baráti Társaság
BEGIN:VTIMEZONE
TZID:Europe/Budapest
BEGIN:DAYLIGHT
TZOFFSETFROM:+0100
TZOFFSETTO:+0200
TZNAME:CEST
DTSTART:20220327T010000
END:DAYLIGHT
BEGIN:STANDARD
TZOFFSETFROM:+0200
TZOFFSETTO:+0100
TZNAME:CET
DTSTART:20221030T010000
END:STANDARD
END:VTIMEZONE
BEGIN:VEVENT
DTSTART;TZID=Europe/Budapest:20220401T110000
DTEND;TZID=Europe/Budapest:20220401T120000
DTSTAMP:20260423T101817
CREATED:20220317T083128Z
LAST-MODIFIED:20220317T083128Z
UID:17401-1648810800-1648814400@dizma.hu
SUMMARY:A szegény ember gazdagsága
DESCRIPTION:Igaz mese a vagyonról és a boldogságról \nElsősorban általános iskola felső tagozat és gimnazisták számára \nAz előadás felidézi a magyar mesekincs számos elemét: három kívánság\, csoda kút\,erdő szelleme\, rest macska\, stb. melyek a nagyóvodások és kisiskolások örömére szolgál. \nAz idősebbek az ízes magyar nyelven íródott szövegen túl\, a két történet tanulságait is kedvelhetik. \nA színházi élményt a felhangzó dalok\, népzene-variációk és a néptáncok teszik teljessé (Szegény legény vagyok én\, Erdő\, erdő\, erdő\, Két szál pünkösd rózsa\, Kis kece lányom\, Béres legény). \nSzereplők:\nMagyari Mihály: Seder Gábor\nOkos Katica: Kontha Nelli\nZene: Csák Péter\nKoreográfia: Zsákai Júlia\nNépmesei motívumok felhasználásával írta és rendezte: Albert Péter \nIdőpont: 2022. április 1. péntek 11 órakor\nHelyszín: DOKK 7200 Dombóvár\, Kossuth Lajos utca 69.\nElőadó: Batyu Színház \nA belépés díjmentes\, előzetes regisztráció:\n+36 30/290-8400\ninfo@dokkdombovar.hu \nPályázat azonosító száma: TOP-7.1.1-16-H-ESZA-2019-00279\nPályázat címe: DOKK programsorozatok a helyi lakosok\, közösségek számára
URL:https://dizma.hu/program/a-szegeny-ember-gazdagsaga/
LOCATION:Dombóvári DOKK\, Kossuth Lajos utca 69.\, Dombóvár\, Tolna\, 7200\, Magyarország
CATEGORIES:Előadás
ATTACH;FMTTYPE=image/png:https://dizma.hu/wp-content/uploads/2022/03/Szegeny-ember_email.png
END:VEVENT
END:VCALENDAR