BEGIN:VCALENDAR
VERSION:2.0
PRODID:-//Dombóvári Magyar-Izraeli Baráti Társaság - ECPv5.14.1//NONSGML v1.0//EN
CALSCALE:GREGORIAN
METHOD:PUBLISH
X-WR-CALNAME:Dombóvári Magyar-Izraeli Baráti Társaság
X-ORIGINAL-URL:https://dizma.hu
X-WR-CALDESC:Events for Dombóvári Magyar-Izraeli Baráti Társaság
BEGIN:VTIMEZONE
TZID:Europe/Budapest
BEGIN:DAYLIGHT
TZOFFSETFROM:+0100
TZOFFSETTO:+0200
TZNAME:CEST
DTSTART:20240331T010000
END:DAYLIGHT
BEGIN:STANDARD
TZOFFSETFROM:+0200
TZOFFSETTO:+0100
TZNAME:CET
DTSTART:20241027T010000
END:STANDARD
END:VTIMEZONE
BEGIN:VEVENT
DTSTART;TZID=Europe/Budapest:20240630T140000
DTEND;TZID=Europe/Budapest:20240630T150000
DTSTAMP:20260420T192356
CREATED:20240527T123407Z
LAST-MODIFIED:20240528T071610Z
UID:18212-1719756000-1719759600@dizma.hu
SUMMARY:Anne Frank - Történetek a hátsó traktusból
DESCRIPTION:monodráma \nÍrta\, rendezte és előadja: Edelényi Vivien \nHelyszín: DOKK – Dombóvári Közösségi Központ – 7200 Dombóvár\, Kossuth utca 69. \nIdőpont: 2024. június 30. (vasárnap) 14:00 \nA belépés díjmentes\, de előzetes regisztrációhoz kötött. Regisztráció: info@dizma.hu
URL:https://dizma.hu/program/anne-frank-torteneteka-hatso-traktusbol/
CATEGORIES:Előadás
ATTACH;FMTTYPE=image/jpeg:https://dizma.hu/wp-content/uploads/2024/05/Anne-Frank-email.jpg
END:VEVENT
END:VCALENDAR