BEGIN:VCALENDAR
VERSION:2.0
PRODID:-//Dombóvári Magyar-Izraeli Baráti Társaság - ECPv5.14.1//NONSGML v1.0//EN
CALSCALE:GREGORIAN
METHOD:PUBLISH
X-WR-CALNAME:Dombóvári Magyar-Izraeli Baráti Társaság
X-ORIGINAL-URL:https://dizma.hu
X-WR-CALDESC:Events for Dombóvári Magyar-Izraeli Baráti Társaság
BEGIN:VTIMEZONE
TZID:Europe/Budapest
BEGIN:DAYLIGHT
TZOFFSETFROM:+0100
TZOFFSETTO:+0200
TZNAME:CEST
DTSTART:20210328T010000
END:DAYLIGHT
BEGIN:STANDARD
TZOFFSETFROM:+0200
TZOFFSETTO:+0100
TZNAME:CET
DTSTART:20211031T010000
END:STANDARD
END:VTIMEZONE
BEGIN:VEVENT
DTSTART;TZID=Europe/Budapest:20211206T160000
DTEND;TZID=Europe/Budapest:20211206T183000
DTSTAMP:20260423T215430
CREATED:20211203T081554Z
LAST-MODIFIED:20211203T081554Z
UID:17156-1638806400-1638815400@dizma.hu
SUMMARY:Bibliai Tanulmányozás
DESCRIPTION:
URL:https://dizma.hu/program/bibliai-tanulmanyozas-19/
CATEGORIES:Program
END:VEVENT
END:VCALENDAR