BEGIN:VCALENDAR
VERSION:2.0
PRODID:-//Dombóvári Magyar-Izraeli Baráti Társaság - ECPv5.14.1//NONSGML v1.0//EN
CALSCALE:GREGORIAN
METHOD:PUBLISH
X-WR-CALNAME:Dombóvári Magyar-Izraeli Baráti Társaság
X-ORIGINAL-URL:https://dizma.hu
X-WR-CALDESC:Events for Dombóvári Magyar-Izraeli Baráti Társaság
BEGIN:VTIMEZONE
TZID:Europe/Budapest
BEGIN:DAYLIGHT
TZOFFSETFROM:+0100
TZOFFSETTO:+0200
TZNAME:CEST
DTSTART:20210328T010000
END:DAYLIGHT
BEGIN:STANDARD
TZOFFSETFROM:+0200
TZOFFSETTO:+0100
TZNAME:CET
DTSTART:20211031T010000
END:STANDARD
END:VTIMEZONE
BEGIN:VEVENT
DTSTART;TZID=Europe/Budapest:20210809T160000
DTEND;TZID=Europe/Budapest:20210809T183000
DTSTAMP:20260424T165448
CREATED:20210805T124444Z
LAST-MODIFIED:20210805T124444Z
UID:16868-1628524800-1628533800@dizma.hu
SUMMARY:Bibliai Tanulmányozás
DESCRIPTION:
URL:https://dizma.hu/program/bibliai-tanulmanyozas-2/
CATEGORIES:Előadás
ORGANIZER;CN="Dizma":MAILTO:info@dizma.hu
END:VEVENT
END:VCALENDAR