BEGIN:VCALENDAR
VERSION:2.0
PRODID:-//Dombóvári Magyar-Izraeli Baráti Társaság - ECPv5.14.1//NONSGML v1.0//EN
CALSCALE:GREGORIAN
METHOD:PUBLISH
X-WR-CALNAME:Dombóvári Magyar-Izraeli Baráti Társaság
X-ORIGINAL-URL:https://dizma.hu
X-WR-CALDESC:Events for Dombóvári Magyar-Izraeli Baráti Társaság
BEGIN:VTIMEZONE
TZID:Europe/Budapest
BEGIN:DAYLIGHT
TZOFFSETFROM:+0100
TZOFFSETTO:+0200
TZNAME:CEST
DTSTART:20220327T010000
END:DAYLIGHT
BEGIN:STANDARD
TZOFFSETFROM:+0200
TZOFFSETTO:+0100
TZNAME:CET
DTSTART:20221030T010000
END:STANDARD
END:VTIMEZONE
BEGIN:VEVENT
DTSTART;TZID=Europe/Budapest:20220313T170000
DTEND;TZID=Europe/Budapest:20220313T200000
DTSTAMP:20260423T114056
CREATED:20220303T064425Z
LAST-MODIFIED:20220303T064425Z
UID:17388-1647190800-1647201600@dizma.hu
SUMMARY:Dombóvári Nőnapi Koncert
DESCRIPTION:Szeretettel meghívjuk Önt és Partnerét Oláh Gergő és Farkas Izsák Koncertjére! \nHelyszín: Dombóvári Közösségi Központ\, 7200 Dombóvár\, Kossuth Lajos u. 69. \nIdőpont: március 13. (vasárnap) 17:00 \nA belépés díjmentes\, de előzetes regisztráció szükséges. \nRegisztráció:\ninfo@dokkdombovar.hu\n+36 30/290-8400 \nPályázat azonosító száma: TOP-7.1.1-16-H-ESZA-2019-00279\nPályázat címe: DOKK programsorozatok a helyi lakosok\, közösségek számára
URL:https://dizma.hu/program/dombovari-nonapi-koncert/
CATEGORIES:Program
ATTACH;FMTTYPE=image/png:https://dizma.hu/wp-content/uploads/2022/03/dombovari.png
END:VEVENT
END:VCALENDAR