BEGIN:VCALENDAR
VERSION:2.0
PRODID:-//Dombóvári Magyar-Izraeli Baráti Társaság - ECPv5.14.1//NONSGML v1.0//EN
CALSCALE:GREGORIAN
METHOD:PUBLISH
X-WR-CALNAME:Dombóvári Magyar-Izraeli Baráti Társaság
X-ORIGINAL-URL:https://dizma.hu
X-WR-CALDESC:Events for Dombóvári Magyar-Izraeli Baráti Társaság
BEGIN:VTIMEZONE
TZID:Europe/Budapest
BEGIN:DAYLIGHT
TZOFFSETFROM:+0100
TZOFFSETTO:+0200
TZNAME:CEST
DTSTART:20210328T010000
END:DAYLIGHT
BEGIN:STANDARD
TZOFFSETFROM:+0200
TZOFFSETTO:+0100
TZNAME:CET
DTSTART:20211031T010000
END:STANDARD
END:VTIMEZONE
BEGIN:VEVENT
DTSTART;TZID=Europe/Budapest:20210627T150000
DTEND;TZID=Europe/Budapest:20210627T160000
DTSTAMP:20260424T090958
CREATED:20210222T093944Z
LAST-MODIFIED:20210601T110621Z
UID:14632-1624806000-1624809600@dizma.hu
SUMMARY:Emlékház avató
DESCRIPTION:Örömmel értesítjük kedves Barátainkat és Követőinket\, hogy 2021.június 27-én kerül megrendezésre Holokauszt megemlékezésünk\, amely az idei évben rendhagyó lesz\, ugyanis új emlékházunk is átadásra kerül\, melynek névadója\, Dombóvár köztiszteletben álló orvosa\, a zsidó származású Dr. Riesz József. A régi zsidó tanház felújításra került és emlékházként fog funkcionálni a továbbiakban\, őrizve és ápolva a a dombóvári zsidóság emlékét. \nA program menete a következőképpen alakul:\n14.00 órától kerül sor a Holokauszt megemlékezésre a Dombóvári Zsinagógában (Helyszín:Dombóvár\, Deák Ferenc utca 12) \n15.00 órától tartjuk az Emlékház megnyitóját és átadó ünnepségét\n(Helyszín: Dombóvár\, Deák Ferenc utca 5 – a Zsinagóga mellett) \nKérünk minden kedves érdeklődőt\, hogy részvételi szándékát legyen kedves\negy előzetes regisztrációval jelezni a következő email címen: info@dizma.hu \nSzeretettel várunk minden kedves emlékezni vágyót!
URL:https://dizma.hu/program/emlekhaz-avato/
LOCATION:Dombóvár Emlékház\, Deák Ferenc utca 5\, Dombóvár\, Tolna megye\, 7200\, Magyarország
CATEGORIES:Ünnepség
ORGANIZER;CN="Dizma":MAILTO:info@dizma.hu
END:VEVENT
END:VCALENDAR