BEGIN:VCALENDAR
VERSION:2.0
PRODID:-//Dombóvári Magyar-Izraeli Baráti Társaság - ECPv5.14.1//NONSGML v1.0//EN
CALSCALE:GREGORIAN
METHOD:PUBLISH
X-WR-CALNAME:Dombóvári Magyar-Izraeli Baráti Társaság
X-ORIGINAL-URL:https://dizma.hu
X-WR-CALDESC:Events for Dombóvári Magyar-Izraeli Baráti Társaság
BEGIN:VTIMEZONE
TZID:Europe/Budapest
BEGIN:DAYLIGHT
TZOFFSETFROM:+0100
TZOFFSETTO:+0200
TZNAME:CEST
DTSTART:20210328T010000
END:DAYLIGHT
BEGIN:STANDARD
TZOFFSETFROM:+0200
TZOFFSETTO:+0100
TZNAME:CET
DTSTART:20211031T010000
END:STANDARD
END:VTIMEZONE
BEGIN:VEVENT
DTSTART;TZID=Europe/Budapest:20211002T160000
DTEND;TZID=Europe/Budapest:20211002T190000
DTSTAMP:20260425T212642
CREATED:20211006T122035Z
LAST-MODIFIED:20211006T122035Z
UID:17029-1633190400-1633201200@dizma.hu
SUMMARY:Felekezetközi Istentistelet
DESCRIPTION:
URL:https://dizma.hu/program/felekezetkozi-istentistelet/
CATEGORIES:Előadás
END:VEVENT
END:VCALENDAR