BEGIN:VCALENDAR
VERSION:2.0
PRODID:-//Dombóvári Magyar-Izraeli Baráti Társaság - ECPv5.14.1//NONSGML v1.0//EN
CALSCALE:GREGORIAN
METHOD:PUBLISH
X-WR-CALNAME:Dombóvári Magyar-Izraeli Baráti Társaság
X-ORIGINAL-URL:https://dizma.hu
X-WR-CALDESC:Events for Dombóvári Magyar-Izraeli Baráti Társaság
BEGIN:VTIMEZONE
TZID:Europe/Budapest
BEGIN:DAYLIGHT
TZOFFSETFROM:+0100
TZOFFSETTO:+0200
TZNAME:CEST
DTSTART:20210328T010000
END:DAYLIGHT
BEGIN:STANDARD
TZOFFSETFROM:+0200
TZOFFSETTO:+0100
TZNAME:CET
DTSTART:20211031T010000
END:STANDARD
END:VTIMEZONE
BEGIN:VEVENT
DTSTART;TZID=Europe/Budapest:20210612T160000
DTEND;TZID=Europe/Budapest:20210612T190000
DTSTAMP:20260424T203710
CREATED:20210601T110136Z
LAST-MODIFIED:20210601T110136Z
UID:16511-1623513600-1623524400@dizma.hu
SUMMARY:Felekezetközi Istentisztelet
DESCRIPTION:
URL:https://dizma.hu/program/felekezetkozi-istentisztelet-12/
LOCATION:Dombóvári DOKK\, Kossuth Lajos utca 69.\, Dombóvár\, Tolna\, 7200\, Magyarország
CATEGORIES:Előadás
END:VEVENT
END:VCALENDAR