BEGIN:VCALENDAR
VERSION:2.0
PRODID:-//Dombóvári Magyar-Izraeli Baráti Társaság - ECPv5.14.1//NONSGML v1.0//EN
CALSCALE:GREGORIAN
METHOD:PUBLISH
X-WR-CALNAME:Dombóvári Magyar-Izraeli Baráti Társaság
X-ORIGINAL-URL:https://dizma.hu
X-WR-CALDESC:Events for Dombóvári Magyar-Izraeli Baráti Társaság
BEGIN:VTIMEZONE
TZID:Europe/Budapest
BEGIN:DAYLIGHT
TZOFFSETFROM:+0100
TZOFFSETTO:+0200
TZNAME:CEST
DTSTART:20210328T010000
END:DAYLIGHT
BEGIN:STANDARD
TZOFFSETFROM:+0200
TZOFFSETTO:+0100
TZNAME:CET
DTSTART:20211031T010000
END:STANDARD
END:VTIMEZONE
BEGIN:VEVENT
DTSTART;TZID=Europe/Budapest:20211117T180000
DTEND;TZID=Europe/Budapest:20211117T200000
DTSTAMP:20260424T105956
CREATED:20211021T120712Z
LAST-MODIFIED:20211022T063707Z
UID:17062-1637172000-1637179200@dizma.hu
SUMMARY:Hogyan tudhatjuk meg\, KI A KERESZTÉNY? Kerekasztal beszélgetés II.
DESCRIPTION:Résztvevők:  \nRácz Lajos- református lelkész és Dr. Molnár Róbert-Kübekháza polgármestere \nModerátor: Rostás Zoltán\nHelyszín: Dombóvári Közösségi Központ (7200 Dombóvár\, Kossuth u. 69.)\nIdőpont: 2021. november 17. (szerda) 18:00 óra\nA belépés díjmentes\, de előzetes regisztráció szükséges. Regisztráció: ? info@dizma.hu ?+36 30/290-8400
URL:https://dizma.hu/program/hogyan-tudhatjuk-meg-ki-a-kereszteny-kerekasztal-beszelgetes-ii/
LOCATION:Dombóvári DOKK\, Kossuth Lajos utca 69.\, Dombóvár\, Tolna\, 7200\, Magyarország
CATEGORIES:Program
ORGANIZER;CN="Dizma":MAILTO:info@dizma.hu
END:VEVENT
END:VCALENDAR