BEGIN:VCALENDAR
VERSION:2.0
PRODID:-//Dombóvári Magyar-Izraeli Baráti Társaság - ECPv5.14.1//NONSGML v1.0//EN
CALSCALE:GREGORIAN
METHOD:PUBLISH
X-WR-CALNAME:Dombóvári Magyar-Izraeli Baráti Társaság
X-ORIGINAL-URL:https://dizma.hu
X-WR-CALDESC:Events for Dombóvári Magyar-Izraeli Baráti Társaság
BEGIN:VTIMEZONE
TZID:Europe/Budapest
BEGIN:DAYLIGHT
TZOFFSETFROM:+0100
TZOFFSETTO:+0200
TZNAME:CEST
DTSTART:20240331T010000
END:DAYLIGHT
BEGIN:STANDARD
TZOFFSETFROM:+0200
TZOFFSETTO:+0100
TZNAME:CET
DTSTART:20241027T010000
END:STANDARD
END:VTIMEZONE
BEGIN:VEVENT
DTSTART;TZID=Europe/Budapest:20240928T160000
DTEND;TZID=Europe/Budapest:20240928T170000
DTSTAMP:20260420T173437
CREATED:20240916T100342Z
LAST-MODIFIED:20240916T100342Z
UID:18406-1727539200-1727542800@dizma.hu
SUMMARY:Iványi Gábor lesz a vendégünk!
DESCRIPTION:Iványi Gábor lesz a vendégünk 2024.09.28-án szombaton 16:00 órától a Dokk-ban (Dombóvári Közösségi Központ 7200 Dombóvár Kossuth utca 69.) Magyarország egyik meghatározó szegényeket ellátó egyházának\, egyesületeinek vezetője élete történetét\, legfontosabb bizonyságait meséli el az érdeklődőknek. \nAz alkalom regisztrációhoz kötött\, jelentkezni az:\ninfo@dombovarigyulekezet.hu email címen lehet!
URL:https://dizma.hu/program/ivanyi-gabor-lesz-a-vendegunk/
LOCATION:Dombóvári DOKK\, Kossuth Lajos utca 69.\, Dombóvár\, Tolna\, 7200\, Magyarország
CATEGORIES:Előadás
ATTACH;FMTTYPE=image/jpeg:https://dizma.hu/wp-content/uploads/2024/09/DIZMA-Hirmeret-2.jpg
END:VEVENT
END:VCALENDAR