BEGIN:VCALENDAR
VERSION:2.0
PRODID:-//Dombóvári Magyar-Izraeli Baráti Társaság - ECPv5.14.1//NONSGML v1.0//EN
CALSCALE:GREGORIAN
METHOD:PUBLISH
X-WR-CALNAME:Dombóvári Magyar-Izraeli Baráti Társaság
X-ORIGINAL-URL:https://dizma.hu
X-WR-CALDESC:Events for Dombóvári Magyar-Izraeli Baráti Társaság
BEGIN:VTIMEZONE
TZID:Europe/Budapest
BEGIN:DAYLIGHT
TZOFFSETFROM:+0100
TZOFFSETTO:+0200
TZNAME:CEST
DTSTART:20240331T010000
END:DAYLIGHT
BEGIN:STANDARD
TZOFFSETFROM:+0200
TZOFFSETTO:+0100
TZNAME:CET
DTSTART:20241027T010000
END:STANDARD
END:VTIMEZONE
BEGIN:VEVENT
DTSTART;TZID=Europe/Budapest:20241209T180000
DTEND;TZID=Europe/Budapest:20241209T190000
DTSTAMP:20260421T033758
CREATED:20241119T115548Z
LAST-MODIFIED:20241119T115548Z
UID:18521-1733767200-1733770800@dizma.hu
SUMMARY:Közös Szentírás olvasás és értelmezés
DESCRIPTION:https://dizma.hu/wp-content/uploads/2024/11/Kozos-Szentiras-olvasas-es-ertelmezes.mp4
URL:https://dizma.hu/program/kozos-szentiras-olvasas-es-ertelmezes-3/
LOCATION:Dombóvár Emlékház\, Deák Ferenc utca 5\, Dombóvár\, Tolna megye\, 7200\, Magyarország
CATEGORIES:Bibliaóra
ATTACH;FMTTYPE=image/jpeg:https://dizma.hu/wp-content/uploads/2024/11/Kozos-Szentiras-olvasas-es-ertelmezes-indexkep.jpg
END:VEVENT
END:VCALENDAR