BEGIN:VCALENDAR
VERSION:2.0
PRODID:-//Dombóvári Magyar-Izraeli Baráti Társaság - ECPv5.14.1//NONSGML v1.0//EN
CALSCALE:GREGORIAN
METHOD:PUBLISH
X-WR-CALNAME:Dombóvári Magyar-Izraeli Baráti Társaság
X-ORIGINAL-URL:https://dizma.hu
X-WR-CALDESC:Events for Dombóvári Magyar-Izraeli Baráti Társaság
BEGIN:VTIMEZONE
TZID:Europe/Budapest
BEGIN:DAYLIGHT
TZOFFSETFROM:+0100
TZOFFSETTO:+0200
TZNAME:CEST
DTSTART:20220327T010000
END:DAYLIGHT
BEGIN:STANDARD
TZOFFSETFROM:+0200
TZOFFSETTO:+0100
TZNAME:CET
DTSTART:20221030T010000
END:STANDARD
END:VTIMEZONE
BEGIN:VEVENT
DTSTART;TZID=Europe/Budapest:20220626T140000
DTEND;TZID=Europe/Budapest:20220626T170000
DTSTAMP:20260423T020040
CREATED:20220506T075607Z
LAST-MODIFIED:20220506T075607Z
UID:17551-1656252000-1656262800@dizma.hu
SUMMARY:MEGEMLÉKEZÉS A DOMBÓVÁRI HOLOKAUSZT ÁLDOZATAIRÓL
DESCRIPTION:2022. június 26. vasárnap \n14:00 – 15:00\nHolokauszt megemlékezés és emlékműsor\nHelyszín: Dr. Riesz József Emlékház (zsinagóga mellett) 7200 Dombóvár\, Deák Ferenc utca 5. \n15:00 – től\n„Menet”\nKözös séta a volt gettó és a DVMSE Sportcsarnok között\nÚtvonal: Deák Ferenc utca – Arany János tér – Dózsa György utca – Berzsenyi utca
URL:https://dizma.hu/program/megemlekezes-a-dombovari-holokauszt-aldozatairol/
CATEGORIES:Megemlékezés
ATTACH;FMTTYPE=image/png:https://dizma.hu/wp-content/uploads/2022/05/holokauszt_megemlekezes_2022_email.png
ORGANIZER;CN="Dizma":MAILTO:info@dizma.hu
END:VEVENT
END:VCALENDAR