BEGIN:VCALENDAR
VERSION:2.0
PRODID:-//Dombóvári Magyar-Izraeli Baráti Társaság - ECPv5.14.1//NONSGML v1.0//EN
CALSCALE:GREGORIAN
METHOD:PUBLISH
X-WR-CALNAME:Dombóvári Magyar-Izraeli Baráti Társaság
X-ORIGINAL-URL:https://dizma.hu
X-WR-CALDESC:Events for Dombóvári Magyar-Izraeli Baráti Társaság
BEGIN:VTIMEZONE
TZID:Europe/Budapest
BEGIN:DAYLIGHT
TZOFFSETFROM:+0100
TZOFFSETTO:+0200
TZNAME:CEST
DTSTART:20220327T010000
END:DAYLIGHT
BEGIN:STANDARD
TZOFFSETFROM:+0200
TZOFFSETTO:+0100
TZNAME:CET
DTSTART:20221030T010000
END:STANDARD
END:VTIMEZONE
BEGIN:VEVENT
DTSTART;TZID=Europe/Budapest:20220625T170000
DTEND;TZID=Europe/Budapest:20220625T230000
DTSTAMP:20260423T034213
CREATED:20220621T073345Z
LAST-MODIFIED:20220621T073345Z
UID:17609-1656176400-1656198000@dizma.hu
SUMMARY:Múzeumok Éjszakája
DESCRIPTION:Szeretettel várjuk Dombóváron a Múzeumok Éjszakáján! \nAz esemény keretében látogatható a Dr. Riesz József Emlékház – Deák Ferenc utca 5.\nIdőpont: 2022.06.25. 17:00-tól 23:00-ig 
URL:https://dizma.hu/program/muzeumok-ejszakaja/
LOCATION:Dombóvár Emlékház\, Deák Ferenc utca 5\, Dombóvár\, Tolna megye\, 7200\, Magyarország
CATEGORIES:Program
ATTACH;FMTTYPE=image/png:https://dizma.hu/wp-content/uploads/2022/06/Muzeumok-ejszakaja-hirkep.png
END:VEVENT
END:VCALENDAR