BEGIN:VCALENDAR
VERSION:2.0
PRODID:-//Dombóvári Magyar-Izraeli Baráti Társaság - ECPv5.14.1//NONSGML v1.0//EN
CALSCALE:GREGORIAN
METHOD:PUBLISH
X-WR-CALNAME:Dombóvári Magyar-Izraeli Baráti Társaság
X-ORIGINAL-URL:https://dizma.hu
X-WR-CALDESC:Events for Dombóvári Magyar-Izraeli Baráti Társaság
BEGIN:VTIMEZONE
TZID:Europe/Budapest
BEGIN:DAYLIGHT
TZOFFSETFROM:+0100
TZOFFSETTO:+0200
TZNAME:CEST
DTSTART:20250330T010000
END:DAYLIGHT
BEGIN:STANDARD
TZOFFSETFROM:+0200
TZOFFSETTO:+0100
TZNAME:CET
DTSTART:20251026T010000
END:STANDARD
END:VTIMEZONE
BEGIN:VEVENT
DTSTART;TZID=Europe/Budapest:20250222T160000
DTEND;TZID=Europe/Budapest:20250222T170000
DTSTAMP:20260426T040118
CREATED:20241119T115121Z
LAST-MODIFIED:20241119T115121Z
UID:18512-1740240000-1740243600@dizma.hu
SUMMARY:Nyilvános Biblia tanítás
DESCRIPTION:https://dizma.hu/wp-content/uploads/2024/11/Nyilvanos-Biblia-tanitas.mp4
URL:https://dizma.hu/program/nyilvanos-biblia-tanitas-14/
LOCATION:Dombóvári DOKK\, Kossuth Lajos utca 69.\, Dombóvár\, Tolna\, 7200\, Magyarország
CATEGORIES:Bibliaóra
ATTACH;FMTTYPE=image/jpeg:https://dizma.hu/wp-content/uploads/2024/11/Nyilvanos-Biblia-tanitas-indexkep.jpg
END:VEVENT
END:VCALENDAR