BEGIN:VCALENDAR
VERSION:2.0
PRODID:-//Dombóvári Magyar-Izraeli Baráti Társaság - ECPv5.14.1//NONSGML v1.0//EN
CALSCALE:GREGORIAN
METHOD:PUBLISH
X-WR-CALNAME:Dombóvári Magyar-Izraeli Baráti Társaság
X-ORIGINAL-URL:https://dizma.hu
X-WR-CALDESC:Events for Dombóvári Magyar-Izraeli Baráti Társaság
BEGIN:VTIMEZONE
TZID:Europe/Budapest
BEGIN:DAYLIGHT
TZOFFSETFROM:+0100
TZOFFSETTO:+0200
TZNAME:CEST
DTSTART:20220327T010000
END:DAYLIGHT
BEGIN:STANDARD
TZOFFSETFROM:+0200
TZOFFSETTO:+0100
TZNAME:CET
DTSTART:20221030T010000
END:STANDARD
END:VTIMEZONE
BEGIN:VEVENT
DTSTART;VALUE=DATE:20220501
DTEND;VALUE=DATE:20220504
DTSTAMP:20260423T070127
CREATED:20220414T053603Z
LAST-MODIFIED:20220414T054046Z
UID:17500-1651363200-1651622399@dizma.hu
SUMMARY:Oscar-díjas filmnapok
DESCRIPTION:Május 1. és 3. között filmnapokat tartunk a DOKK-ban\, melyre sok szeretettel várunk minden kedves érdeklődőt. A válogatás olyan filmekre fókuszál\, melyek korábban Oscar-díjat nyertek. \n2022.05.01 vasárnap 17:00 órakor\nA szív bajnokai (128′) (12)\nlegjobb női alakítás \n2022.05.02 hétfő 17:00 órakor\nAz apa (97′) (12)\nlegjobb adaptált forgatókönyv\, legjobb férfi főszereplő \n2022.05.03 kedd 17:00 órakor\nSpotlight – Egy nyomozás részletei (128′) (16)\nlegjobb film\, legjobb eredeti forgatókönyv \n\nHelyszín: DOKK 7200 Dombóvár\, Kossuth Lajos u. 69.\nA belépés díjmentes\, kötelezően regisztrációhoz kötött.\n+36 30/290-8400\ninfo@dokkdombovar.hu
URL:https://dizma.hu/program/oscar-dijas-filmnapok/
LOCATION:Dombóvári DOKK\, Kossuth Lajos utca 69.\, Dombóvár\, Tolna\, 7200\, Magyarország
CATEGORIES:Program
ATTACH;FMTTYPE=image/png:https://dizma.hu/wp-content/uploads/2022/04/email-oscar-dijas-filmnapok.png
END:VEVENT
END:VCALENDAR