BEGIN:VCALENDAR
VERSION:2.0
PRODID:-//Dombóvári Magyar-Izraeli Baráti Társaság - ECPv5.14.1//NONSGML v1.0//EN
CALSCALE:GREGORIAN
METHOD:PUBLISH
X-WR-CALNAME:Dombóvári Magyar-Izraeli Baráti Társaság
X-ORIGINAL-URL:https://dizma.hu
X-WR-CALDESC:Events for Dombóvári Magyar-Izraeli Baráti Társaság
BEGIN:VTIMEZONE
TZID:Europe/Budapest
BEGIN:DAYLIGHT
TZOFFSETFROM:+0100
TZOFFSETTO:+0200
TZNAME:CEST
DTSTART:20220327T010000
END:DAYLIGHT
BEGIN:STANDARD
TZOFFSETFROM:+0200
TZOFFSETTO:+0100
TZNAME:CET
DTSTART:20221030T010000
END:STANDARD
END:VTIMEZONE
BEGIN:VEVENT
DTSTART;TZID=Europe/Budapest:20220922T180000
DTEND;TZID=Europe/Budapest:20220922T190000
DTSTAMP:20260423T002422
CREATED:20220905T110230Z
LAST-MODIFIED:20220906T111239Z
UID:17666-1663869600-1663873200@dizma.hu
SUMMARY:Őszi zsidó ünnepek
DESCRIPTION:Kedves Barátaink!\nSzeretettel várunk benneteket 2022. szeptember 22-én (csütörtökön) Róna László előadására\, mely a zsidó őszi ünnepekről szól. \nElőadó: Róna László – a Kaposvári Zsidó Hitközség elnöke\nHelyszín: Dr. Riesz József Emlékház – 7200 Dombóvár\, Deák Ferenc utca 5.\nIdőpont: 2022. szeptember 22. (csütörtök) 18:00 órától
URL:https://dizma.hu/program/oszi-zsido-unnepek/
LOCATION:Dombóvár Emlékház\, Deák Ferenc utca 5\, Dombóvár\, Tolna megye\, 7200\, Magyarország
CATEGORIES:Ünnepség
ATTACH;FMTTYPE=image/png:https://dizma.hu/wp-content/uploads/2022/09/oszi-zsido-unnepek.png
END:VEVENT
END:VCALENDAR