BEGIN:VCALENDAR
VERSION:2.0
PRODID:-//Dombóvári Magyar-Izraeli Baráti Társaság - ECPv5.14.1//NONSGML v1.0//EN
CALSCALE:GREGORIAN
METHOD:PUBLISH
X-WR-CALNAME:Dombóvári Magyar-Izraeli Baráti Társaság
X-ORIGINAL-URL:https://dizma.hu
X-WR-CALDESC:Events for Dombóvári Magyar-Izraeli Baráti Társaság
BEGIN:VTIMEZONE
TZID:Europe/Budapest
BEGIN:DAYLIGHT
TZOFFSETFROM:+0100
TZOFFSETTO:+0200
TZNAME:CEST
DTSTART:20210328T010000
END:DAYLIGHT
BEGIN:STANDARD
TZOFFSETFROM:+0200
TZOFFSETTO:+0100
TZNAME:CET
DTSTART:20211031T010000
END:STANDARD
END:VTIMEZONE
BEGIN:VEVENT
DTSTART;TZID=Europe/Budapest:20210915T090000
DTEND;TZID=Europe/Budapest:20210929T150000
DTSTAMP:20260425T144931
CREATED:20210914T080821Z
LAST-MODIFIED:20210914T080821Z
UID:16925-1631696400-1632927600@dizma.hu
SUMMARY:Szenes Hanna 100 kiállítás
DESCRIPTION:Szenes Hanna\, a költő és a zsidó ellenállás hőse\, születésének 100. évfordulója alkalmából rendezett kiállítás.  \nMegnyitó: 2021.szeptember 15. 18.00 óra  \nHelyszín: Dr. Riesz József Emlékház\, 7200 Dombóvár Deák Ferenc utca 5 \nA kiállítás 2021.szeptember 15 és 29 között díjmentesen látogatható. A látogatáshoz csak előzetes bejelentkezés szükséges\, melyet az info@dizma.hu email címen\, vagy a +36 30 290 84 00 telefonszámon tehetnek meg. 
URL:https://dizma.hu/program/szenes-hanna-100-kiallitas/
LOCATION:Dombóvár Emlékház\, Deák Ferenc utca 5\, Dombóvár\, Tolna megye\, 7200\, Magyarország
CATEGORIES:Program
ORGANIZER;CN="Dizma":MAILTO:info@dizma.hu
END:VEVENT
END:VCALENDAR