BEGIN:VCALENDAR
VERSION:2.0
PRODID:-//Dombóvári Magyar-Izraeli Baráti Társaság - ECPv5.14.1//NONSGML v1.0//EN
CALSCALE:GREGORIAN
METHOD:PUBLISH
X-WR-CALNAME:Dombóvári Magyar-Izraeli Baráti Társaság
X-ORIGINAL-URL:https://dizma.hu
X-WR-CALDESC:Events for Dombóvári Magyar-Izraeli Baráti Társaság
BEGIN:VTIMEZONE
TZID:Europe/Budapest
BEGIN:DAYLIGHT
TZOFFSETFROM:+0100
TZOFFSETTO:+0200
TZNAME:CEST
DTSTART:20240331T010000
END:DAYLIGHT
BEGIN:STANDARD
TZOFFSETFROM:+0200
TZOFFSETTO:+0100
TZNAME:CET
DTSTART:20241027T010000
END:STANDARD
END:VTIMEZONE
BEGIN:VEVENT
DTSTART;TZID=Europe/Budapest:20240622T180000
DTEND;TZID=Europe/Budapest:20240622T220000
DTSTAMP:20260422T142707
CREATED:20240522T093459Z
LAST-MODIFIED:20240522T095741Z
UID:18195-1719079200-1719093600@dizma.hu
SUMMARY:Múzeumok Éjszakája 2024
DESCRIPTION:2024. június 22-én 18:00 órától 23:00 óráig \n\n\n\nSzeretettel várjuk Dombóváron a Múzeumok Éjszakáján! \n\n\n\nAz esemény keretében megtekinthető a KONCZ ANDRÁS ÜVEGNEGATÍVOK GYŰJTEMÉNYE KIÁLLÍTÁS \n\n\n\nHelyszín: Dr Riesz József Emlékház – 7200 Dombóvár\, Deák Ferenc utca 5. (zsinagóga mellett)
URL:https://dizma.hu/program/muzeumok-ejszakaja-2024/
LOCATION:Dombóvár Emlékház\, Deák Ferenc utca 5\, Dombóvár\, Tolna megye\, 7200\, Magyarország
CATEGORIES:Program
ATTACH;FMTTYPE=image/jpeg:https://dizma.hu/wp-content/uploads/2024/05/muzeumok-ejszakaja-2024-reisz-EMAIL.jpg
END:VEVENT
BEGIN:VEVENT
DTSTART;TZID=Europe/Budapest:20240622T193000
DTEND;TZID=Europe/Budapest:20240622T213000
DTSTAMP:20260422T142707
CREATED:20240522T113142Z
LAST-MODIFIED:20240530T062355Z
UID:18203-1719084600-1719091800@dizma.hu
SUMMARY:Meghívó kiállítás megnyitójára - Koncz András üvegnegatívok gyűjteménye
DESCRIPTION:MEGNYITÓ IDŐPONTJA: 2024. június 22. – szombat 19:30 \n\n\n\nHelyszín: Dr. Riesz József Emlékház – 7200 Dombóvár\, Deák Ferenc u. 5. – zsinagóga mellett
URL:https://dizma.hu/program/meghivo-kiallitas-megnyitojara-koncz-andras-uvegnegativok-gyujtemenye/
LOCATION:Dombóvár Emlékház\, Deák Ferenc utca 5\, Dombóvár\, Tolna megye\, 7200\, Magyarország
CATEGORIES:Program
ATTACH;FMTTYPE=image/jpeg:https://dizma.hu/wp-content/uploads/2024/05/Koncz-Andras-uvegnegativok-kiallitas-email-1.jpg
END:VEVENT
END:VCALENDAR